BEGIN:VCALENDAR
VERSION:2.0
PRODID:-//Hubertus Vereniging Vlaanderen - ECPv6.15.12.2//NONSGML v1.0//EN
CALSCALE:GREGORIAN
METHOD:PUBLISH
X-WR-CALNAME:Hubertus Vereniging Vlaanderen
X-ORIGINAL-URL:https://hvv.be
X-WR-CALDESC:Events voor Hubertus Vereniging Vlaanderen
REFRESH-INTERVAL;VALUE=DURATION:PT1H
X-Robots-Tag:noindex
X-PUBLISHED-TTL:PT1H
BEGIN:VTIMEZONE
TZID:Europe/Brussels
BEGIN:DAYLIGHT
TZOFFSETFROM:+0100
TZOFFSETTO:+0200
TZNAME:CEST
DTSTART:20230326T010000
END:DAYLIGHT
BEGIN:STANDARD
TZOFFSETFROM:+0200
TZOFFSETTO:+0100
TZNAME:CET
DTSTART:20231029T010000
END:STANDARD
BEGIN:DAYLIGHT
TZOFFSETFROM:+0100
TZOFFSETTO:+0200
TZNAME:CEST
DTSTART:20240331T010000
END:DAYLIGHT
BEGIN:STANDARD
TZOFFSETFROM:+0200
TZOFFSETTO:+0100
TZNAME:CET
DTSTART:20241027T010000
END:STANDARD
BEGIN:DAYLIGHT
TZOFFSETFROM:+0100
TZOFFSETTO:+0200
TZNAME:CEST
DTSTART:20250330T010000
END:DAYLIGHT
BEGIN:STANDARD
TZOFFSETFROM:+0200
TZOFFSETTO:+0100
TZNAME:CET
DTSTART:20251026T010000
END:STANDARD
END:VTIMEZONE
BEGIN:VEVENT
DTSTART;TZID=Europe/Brussels:20241102T180000
DTEND;TZID=Europe/Brussels:20241102T200000
DTSTAMP:20260421T031633
CREATED:20240816T073945Z
LAST-MODIFIED:20240816T080859Z
UID:9224-1730570400-1730577600@hvv.be
SUMMARY:Sint-Hubertusviering
DESCRIPTION:Om 19u gebedsdienst door pastoor Jude Okengwo & verdeling gewijd St-Hubertus brood in de kapel St-Anna-Pede. \n  \nWijding dieren\nVanaf 19.30u veiling van wild – en streekproducten op het kerkplein door Marc Willen \nOptreden jachthoornblazers Van Lembeek \nVanaf 18u kan u genieten van een lekker jeneverke\, bubbelke en broodje pens of soep. \nLocatie\nV.U. Damien Van Cutsem – Mussebeeklaan 13\, 1701 Itterbeek
URL:https://hvv.be/event/sint-hubertusviering/
LOCATION:Mussebeeklaan 13\, 1701 Itterbeek\, Mussebeeklaan 13\, Itterbeek\, 1701\, Belgium
CATEGORIES:Sint-Hubertusviering
ATTACH;FMTTYPE=image/png:https://hvv.be/wp-content/uploads/2024/08/sint-hubertusviering-2-november.png
END:VEVENT
END:VCALENDAR